BEGIN:VCALENDAR
VERSION:2.0
PRODID:-//Eventin//Event Calendar//EN
CALSCALE:GREGORIAN
METHOD:PUBLISH
BEGIN:VEVENT
UID:bac8b93eb15b8d808f6d86bc8d95de42@breakfreeevents.de
SUMMARY:✨ CANDLE LIGHT SUFI & GHAZAL NIGHT + AFTER PARTY 🔥 ✨
DESCRIPTION:✨ CANDLE LIGHT SUFI & GHAZAL NIGHT + After Party – BERLIN
 ’S MOST SOULFUL DESI EXPERIENCE ✨\nBerlin\, prepare yourself for a mag
 ical evening where music\, culture\, fashion\, and nightlife come together 
 in perfect harmony. Welcome to Candle Light Sufi & Ghazal Night – an un
 forgettable experience designed to awaken your senses and elevate your nigh
 t.\nStep into a mesmerizing candle-lit ambiance where soulful Sufi melodies
  fill the air\, creating an atmosphere of elegance\, warmth\, and pure emot
 ion.\n👑 What awaits you:\n🪔 Candle Light Sufi & Ghazal Concert –
  immerse yourself in live Sufi music surrounded by a stunning candlelight s
 etting.\n👗 Desi Fashion Showcase – experience a captivating runway f
 eaturing a blend of traditional and modern South Asian fashion.\n🎧 High
 -Energy After Party – as the night unfolds\, transition into an electrif
 ying after party with the best Bollywood\, Punjabi\, and Desi beats keeping
  you dancing until sunrise.\n🍸 Food & Cocktails Experience – indulge
  in exquisite food and signature cocktails curated by Swadesh Schöneberg\
 , bringing authentic flavors with a modern twist.\n📍 Maaßenstraße 5\, 
 10777 Berlin\n👉 Instagram: https://www.instagram.com/swadesh.schoeneber
 g?igsh=MXgzdXRyZ3ZjYnFjMg==\n🌹 Luxury vibes. Beautiful people. Unforget
 table memories.\nThis is not just an event… it’s a journey from soul to
  celebration.\n📍 Queens Place\nSkalitzer Str. 130\, 10999 Berlin\n📅
  Saturday\, 18 April 2026\n⏰ 7:30PM – 4AM\n✨ LIVE MUSICIANS & DJS 
 LINE-UP ✨\n🎶 Soulful Live Performances\nExperience the magic of Sufi
  music brought to life by incredibly talented artists:\n🎵 Apurba – S
 inging (Sufi & Ghazal) Harmonium\n🎵 Sebastian – Sitar\n🎵 Divyadh
 anush – Flute\n🎵 David – Guitar\nLet their melodies guide you thr
 ough a deeply immersive and spiritual musical journey under the candlelight
 .\n🎧 After Party DJs – Berlin’s Finest\nAs the night evolves\, the 
 energy rises with electrifying beats from:\n🔥 DJ MLN\n🔥 DJ SXB\nGet
  ready for a powerful mix of Bollywood\, Punjabi\, and Desi club anthems th
 at will keep you dancing all night long.\n✨ Dress elegant. Bring your fri
 ends. Capture the moments. Dance until sunrise.\n⚡ Limited capacity – s
 ecure your spot now before tickets sell out.\n👉 Join our WhatsApp group:
 \nhttps://chat.whatsapp.com/D3X6TzMw2kT58VftFxnit4?mode=gi_t\n👉 Instagra
 m:\nhttps://www.instagram.com/breakfreeevents_?igsh=dXpkZmZpZmxwYTBo&utm_so
 urce=qr
LOCATION:Queen Palace\, Skalitzer Straße\, Berlin\, Germany
DTSTAMP:20260419T121434Z
DTSTART:20260418T173000Z
DTEND:20260419T020000Z
END:VEVENT
END:VCALENDAR
